BEGIN:VCALENDAR
VERSION:2.0
PRODID:-//evangelisch in unterbarmen - ECPv6.15.20//NONSGML v1.0//EN
CALSCALE:GREGORIAN
METHOD:PUBLISH
X-WR-CALNAME:evangelisch in unterbarmen
X-ORIGINAL-URL:https://www.evangelisch-in-unterbarmen.de
X-WR-CALDESC:Veranstaltungen für evangelisch in unterbarmen
REFRESH-INTERVAL;VALUE=DURATION:PT1H
X-Robots-Tag:noindex
X-PUBLISHED-TTL:PT1H
BEGIN:VTIMEZONE
TZID:Europe/Berlin
BEGIN:DAYLIGHT
TZOFFSETFROM:+0100
TZOFFSETTO:+0200
TZNAME:CEST
DTSTART:20230326T010000
END:DAYLIGHT
BEGIN:STANDARD
TZOFFSETFROM:+0200
TZOFFSETTO:+0100
TZNAME:CET
DTSTART:20231029T010000
END:STANDARD
BEGIN:DAYLIGHT
TZOFFSETFROM:+0100
TZOFFSETTO:+0200
TZNAME:CEST
DTSTART:20240331T010000
END:DAYLIGHT
BEGIN:STANDARD
TZOFFSETFROM:+0200
TZOFFSETTO:+0100
TZNAME:CET
DTSTART:20241027T010000
END:STANDARD
BEGIN:DAYLIGHT
TZOFFSETFROM:+0100
TZOFFSETTO:+0200
TZNAME:CEST
DTSTART:20250330T010000
END:DAYLIGHT
BEGIN:STANDARD
TZOFFSETFROM:+0200
TZOFFSETTO:+0100
TZNAME:CET
DTSTART:20251026T010000
END:STANDARD
END:VTIMEZONE
BEGIN:VEVENT
DTSTART;TZID=Europe/Berlin:20240804T110000
DTEND;TZID=Europe/Berlin:20240804T120000
DTSTAMP:20260423T111845
CREATED:20240515T064836Z
LAST-MODIFIED:20240626T125551Z
UID:2331-1722769200-1722772800@www.evangelisch-in-unterbarmen.de
SUMMARY:Open-Air Gottesdienst vor der Unterbarmer Hauptkirche (von Winterfeld)
DESCRIPTION:Bei schlechtem Wetter findet der Gottesdienst in der Unterbarmer Hauptkirche statt.\nMit KMD Jens-Peter Enk am Flügel.
URL:https://www.evangelisch-in-unterbarmen.de/event/open-air-gottesdienst-vor-der-unterbarmer-hauptkirche-von-winterfeld/
LOCATION:Unterbarmer Hauptkirche\, Martin-Lutherstraße 13\, Wuppertal\, NRW\, 42285\, Deutschland
CATEGORIES:Gottesdienst
END:VEVENT
BEGIN:VEVENT
DTSTART;TZID=Europe/Berlin:20240810T180000
DTEND;TZID=Europe/Berlin:20240810T190000
DTSTAMP:20260423T111845
CREATED:20240507T142004Z
LAST-MODIFIED:20240507T142004Z
UID:2308-1723312800-1723316400@www.evangelisch-in-unterbarmen.de
SUMMARY:ORGELKONZERT
DESCRIPTION:Orgelkonzert mit KMD Prof. Matthias Dreißig (Predigerkirche zu Erfurt)\nWerke von Johann Sebastian Bach\, Fleix Mendelssohn-Bartholdy\, August Gottfried Ritter u.a.
URL:https://www.evangelisch-in-unterbarmen.de/event/orgelkonzert-2/
LOCATION:Unterbarmer Hauptkirche\, Martin-Lutherstraße 13\, Wuppertal\, NRW\, 42285\, Deutschland
CATEGORIES:Musik
END:VEVENT
BEGIN:VEVENT
DTSTART;TZID=Europe/Berlin:20240811T100000
DTEND;TZID=Europe/Berlin:20240811T120000
DTSTAMP:20260423T111845
CREATED:20240515T064931Z
LAST-MODIFIED:20240523T102917Z
UID:2333-1723370400-1723377600@www.evangelisch-in-unterbarmen.de
SUMMARY:Gottesdienst (Schröck-Vietor)
DESCRIPTION:Mit Bernd Löhr an der Orgel.
URL:https://www.evangelisch-in-unterbarmen.de/event/gottesdienst-schroeck-vietor/
LOCATION:Unterbarmer Hauptkirche\, Martin-Lutherstraße 13\, Wuppertal\, NRW\, 42285\, Deutschland
CATEGORIES:Gottesdienst
END:VEVENT
BEGIN:VEVENT
DTSTART;TZID=Europe/Berlin:20240817T180000
DTEND;TZID=Europe/Berlin:20240817T190000
DTSTAMP:20260423T111845
CREATED:20240507T142144Z
LAST-MODIFIED:20240507T142144Z
UID:2310-1723917600-1723921200@www.evangelisch-in-unterbarmen.de
SUMMARY:ORGELKONZERT - "Geh aus\, mein Herz und suche Freud"
DESCRIPTION:Orgelkonzert: „Geh aus\, mein Herz und suche Freud“\nSommerliche\, licht-komponierte Orgelwerke an der großen Schuke-Orgel.\nKMD Jens-Peter Enk – Orgel
URL:https://www.evangelisch-in-unterbarmen.de/event/orgelkonzert-geh-aus-mein-herz-und-suche-freud/
LOCATION:Unterbarmer Hauptkirche\, Martin-Lutherstraße 13\, Wuppertal\, NRW\, 42285\, Deutschland
CATEGORIES:Musik
END:VEVENT
BEGIN:VEVENT
DTSTART;TZID=Europe/Berlin:20240818T100000
DTEND;TZID=Europe/Berlin:20240818T113000
DTSTAMP:20260423T111845
CREATED:20240515T065051Z
LAST-MODIFIED:20240609T061044Z
UID:2335-1723975200-1723980600@www.evangelisch-in-unterbarmen.de
SUMMARY:Gottesdienst mit Verabschiedung von Gudrun Haarmann (Sauppe)
DESCRIPTION:Johannes Seidemann – Saxofon\nKMD Jens-Peter Enk – Orgel
URL:https://www.evangelisch-in-unterbarmen.de/event/gottesdienst-mit-verabschiedung-von-gudrun-haarmann-sauppe/
LOCATION:Unterbarmer Hauptkirche\, Martin-Lutherstraße 13\, Wuppertal\, NRW\, 42285\, Deutschland
CATEGORIES:Gottesdienst,Musik
END:VEVENT
BEGIN:VEVENT
DTSTART;TZID=Europe/Berlin:20240823T190000
DTEND;TZID=Europe/Berlin:20240823T200000
DTSTAMP:20260423T111845
CREATED:20240507T142331Z
LAST-MODIFIED:20240507T142331Z
UID:2312-1724439600-1724443200@www.evangelisch-in-unterbarmen.de
SUMMARY:SOMMERABEND-KONZERT
DESCRIPTION:Sommerabend-Konzert\nOpen-air vor der Unterbarmer Hauptkirche\n„Leichtes\, sommerliches\, träumerisches Konzert“ \nUlrike Reuter – Klarinette\nFritjof Obermann – Querflöte\nKMD Jens-Peter Enk – Flügel
URL:https://www.evangelisch-in-unterbarmen.de/event/sommerabend-konzert/
LOCATION:Unterbarmer Hauptkirche\, Martin-Lutherstraße 13\, Wuppertal\, NRW\, 42285\, Deutschland
CATEGORIES:Musik
END:VEVENT
BEGIN:VEVENT
DTSTART;TZID=Europe/Berlin:20240825T100000
DTEND;TZID=Europe/Berlin:20240825T113000
DTSTAMP:20260423T111845
CREATED:20240515T065153Z
LAST-MODIFIED:20240523T102829Z
UID:2337-1724580000-1724585400@www.evangelisch-in-unterbarmen.de
SUMMARY:Gottesdienst mit Abendmahl (von Winterfeld)
DESCRIPTION:Mit Christine Kiel an der Orgel.
URL:https://www.evangelisch-in-unterbarmen.de/event/gottesdienst-mit-abendmahl-von-winterfeld-2/
LOCATION:Unterbarmer Hauptkirche\, Martin-Lutherstraße 13\, Wuppertal\, NRW\, 42285\, Deutschland
CATEGORIES:Gottesdienst
END:VEVENT
BEGIN:VEVENT
DTSTART;TZID=Europe/Berlin:20240828T201500
DTEND;TZID=Europe/Berlin:20240828T210000
DTSTAMP:20260423T111845
CREATED:20240731T132510Z
LAST-MODIFIED:20240731T132510Z
UID:2537-1724876100-1724878800@www.evangelisch-in-unterbarmen.de
SUMMARY:Nachtgespräch
DESCRIPTION:
URL:https://www.evangelisch-in-unterbarmen.de/event/nachtgespraech-6/
LOCATION:NRW
CATEGORIES:Gottesdienst
END:VEVENT
END:VCALENDAR