BEGIN:VCALENDAR
VERSION:2.0
PRODID:-//evangelisch in unterbarmen - ECPv6.15.20//NONSGML v1.0//EN
CALSCALE:GREGORIAN
METHOD:PUBLISH
X-ORIGINAL-URL:https://www.evangelisch-in-unterbarmen.de
X-WR-CALDESC:Veranstaltungen für evangelisch in unterbarmen
REFRESH-INTERVAL;VALUE=DURATION:PT1H
X-Robots-Tag:noindex
X-PUBLISHED-TTL:PT1H
BEGIN:VTIMEZONE
TZID:Europe/Berlin
BEGIN:DAYLIGHT
TZOFFSETFROM:+0100
TZOFFSETTO:+0200
TZNAME:CEST
DTSTART:20250330T010000
END:DAYLIGHT
BEGIN:STANDARD
TZOFFSETFROM:+0200
TZOFFSETTO:+0100
TZNAME:CET
DTSTART:20251026T010000
END:STANDARD
BEGIN:DAYLIGHT
TZOFFSETFROM:+0100
TZOFFSETTO:+0200
TZNAME:CEST
DTSTART:20260329T010000
END:DAYLIGHT
BEGIN:STANDARD
TZOFFSETFROM:+0200
TZOFFSETTO:+0100
TZNAME:CET
DTSTART:20261025T010000
END:STANDARD
BEGIN:DAYLIGHT
TZOFFSETFROM:+0100
TZOFFSETTO:+0200
TZNAME:CEST
DTSTART:20270328T010000
END:DAYLIGHT
BEGIN:STANDARD
TZOFFSETFROM:+0200
TZOFFSETTO:+0100
TZNAME:CET
DTSTART:20271031T010000
END:STANDARD
END:VTIMEZONE
BEGIN:VEVENT
DTSTART;TZID=Europe/Berlin:20260406T100000
DTEND;TZID=Europe/Berlin:20260406T110000
DTSTAMP:20260419T151833
CREATED:20260126T210953Z
LAST-MODIFIED:20260210T135218Z
UID:3365-1775469600-1775473200@www.evangelisch-in-unterbarmen.de
SUMMARY:Österlicher Singe-Gottesdienst (von Wintefeld\, Schulte)
DESCRIPTION:Alte und neue Osterlieder \nPfarrerin Eva von Winterfeld\nPfarrer Frank Schulte\nKMD Jens-Peter Enk – Flügel und Orgel
URL:https://www.evangelisch-in-unterbarmen.de/event/oesterlicher-singe-gottesdienst/
LOCATION:Unterbarmer Hauptkirche\, Martin-Lutherstraße 13\, Wuppertal\, NRW\, 42285\, Deutschland
CATEGORIES:Gottesdienst,Musik
END:VEVENT
BEGIN:VEVENT
DTSTART;TZID=Europe/Berlin:20260406T180000
DTEND;TZID=Europe/Berlin:20260406T190000
DTSTAMP:20260419T151833
CREATED:20260126T211149Z
LAST-MODIFIED:20260126T211149Z
UID:3367-1775498400-1775502000@www.evangelisch-in-unterbarmen.de
SUMMARY:Österliches Orgelkonzert
DESCRIPTION:Österliches Orgelkonzert – HALLELUJA \nWerke von Johann Sebastian Bach\, Dietrich Buxtehude\, Paul Fey\, Grimoaldo Macchia u.a. \nKMD Jens-Peter Enk an der großen Walcker-Orgel
URL:https://www.evangelisch-in-unterbarmen.de/event/oesterliches-orgelkonzert-3/
LOCATION:Pauluskirche\, Pauluskirchstr. 8\, Wuppertal\, NRW\, 42285\, Deutschland
CATEGORIES:Musik
END:VEVENT
END:VCALENDAR