BEGIN:VCALENDAR
VERSION:2.0
PRODID:-//evangelisch in unterbarmen - ECPv6.15.20//NONSGML v1.0//EN
CALSCALE:GREGORIAN
METHOD:PUBLISH
X-ORIGINAL-URL:https://www.evangelisch-in-unterbarmen.de
X-WR-CALDESC:Veranstaltungen für evangelisch in unterbarmen
REFRESH-INTERVAL;VALUE=DURATION:PT1H
X-Robots-Tag:noindex
X-PUBLISHED-TTL:PT1H
BEGIN:VTIMEZONE
TZID:Europe/Berlin
BEGIN:DAYLIGHT
TZOFFSETFROM:+0100
TZOFFSETTO:+0200
TZNAME:CEST
DTSTART:20240331T010000
END:DAYLIGHT
BEGIN:STANDARD
TZOFFSETFROM:+0200
TZOFFSETTO:+0100
TZNAME:CET
DTSTART:20241027T010000
END:STANDARD
BEGIN:DAYLIGHT
TZOFFSETFROM:+0100
TZOFFSETTO:+0200
TZNAME:CEST
DTSTART:20250330T010000
END:DAYLIGHT
BEGIN:STANDARD
TZOFFSETFROM:+0200
TZOFFSETTO:+0100
TZNAME:CET
DTSTART:20251026T010000
END:STANDARD
BEGIN:DAYLIGHT
TZOFFSETFROM:+0100
TZOFFSETTO:+0200
TZNAME:CEST
DTSTART:20260329T010000
END:DAYLIGHT
BEGIN:STANDARD
TZOFFSETFROM:+0200
TZOFFSETTO:+0100
TZNAME:CET
DTSTART:20261025T010000
END:STANDARD
END:VTIMEZONE
BEGIN:VEVENT
DTSTART;TZID=Europe/Berlin:20250215T190000
DTEND;TZID=Europe/Berlin:20250215T200000
DTSTAMP:20260420T015758
CREATED:20250107T120443Z
LAST-MODIFIED:20250107T120443Z
UID:2797-1739646000-1739649600@www.evangelisch-in-unterbarmen.de
SUMMARY:"Liebe ist alles..." - Musikalische Vesper
DESCRIPTION:„Liebe ist alles…“\nDarum geht es in der Musikalischen Vesper am Samstag\, 15. Februar 2025\, 19.00 Uhr\, in der Unterbarmer Hauptkirche\, Martin-Luther-Straße.\nDie musikgruppe forum und Prädikant Jens Peter Iven spüren am Tag nach dem Valtentinstag mit Liedern und Texten der Liebe in all ihren Facetten nach – ein besonderer Gottesdienst nicht nur für Verliebte. \nDie musikgruppe forum unter der Leitung unserers inzwischen verstorbenen Kantors Wolfgang Sülz hat jahrzehntelang Gottesdienste mitgestaltet\, Singspiele für Kinder verwirklicht und mit ihren lyrisch-musikalischen Konzerten eine besondere Klangfarbe in die Gemeinde gebracht. \nNach der Liebe-vollen Musikalischen Vesper gibt es noch einen kleinen Snack im Kirchencafé. \n 
URL:https://www.evangelisch-in-unterbarmen.de/event/liebe-ist-alles-musikalische-vesper/
LOCATION:Unterbarmer Hauptkirche\, Martin-Lutherstraße 13\, Wuppertal\, NRW\, 42285\, Deutschland
CATEGORIES:Gottesdienst,Musik
END:VEVENT
END:VCALENDAR