BEGIN:VCALENDAR
VERSION:2.0
PRODID:-//evangelisch in unterbarmen - ECPv6.15.20//NONSGML v1.0//EN
CALSCALE:GREGORIAN
METHOD:PUBLISH
X-ORIGINAL-URL:https://www.evangelisch-in-unterbarmen.de
X-WR-CALDESC:Veranstaltungen für evangelisch in unterbarmen
REFRESH-INTERVAL;VALUE=DURATION:PT1H
X-Robots-Tag:noindex
X-PUBLISHED-TTL:PT1H
BEGIN:VTIMEZONE
TZID:Europe/Berlin
BEGIN:DAYLIGHT
TZOFFSETFROM:+0100
TZOFFSETTO:+0200
TZNAME:CEST
DTSTART:20230326T010000
END:DAYLIGHT
BEGIN:STANDARD
TZOFFSETFROM:+0200
TZOFFSETTO:+0100
TZNAME:CET
DTSTART:20231029T010000
END:STANDARD
BEGIN:DAYLIGHT
TZOFFSETFROM:+0100
TZOFFSETTO:+0200
TZNAME:CEST
DTSTART:20240331T010000
END:DAYLIGHT
BEGIN:STANDARD
TZOFFSETFROM:+0200
TZOFFSETTO:+0100
TZNAME:CET
DTSTART:20241027T010000
END:STANDARD
BEGIN:DAYLIGHT
TZOFFSETFROM:+0100
TZOFFSETTO:+0200
TZNAME:CEST
DTSTART:20250330T010000
END:DAYLIGHT
BEGIN:STANDARD
TZOFFSETFROM:+0200
TZOFFSETTO:+0100
TZNAME:CET
DTSTART:20251026T010000
END:STANDARD
END:VTIMEZONE
BEGIN:VEVENT
DTSTART;TZID=Europe/Berlin:20240914T180000
DTEND;TZID=Europe/Berlin:20240914T190000
DTSTAMP:20260423T112250
CREATED:20240722T111257Z
LAST-MODIFIED:20240722T111257Z
UID:2444-1726336800-1726340400@www.evangelisch-in-unterbarmen.de
SUMMARY:ORGELKONZERT - WUNSCH-STÜCKE
DESCRIPTION:Ein besonderes Orgelkonzert erwartet Sie!\nDie Zuhörer*innen können sich das Programm des Abendes selber wünschen.\nAlle Wünsche werden erfüllt! \nBitte die Wünsche entweder per Mail:\njens-peter.enk@ekir.de\noder telefonisch:\n0202/ 299 606 69 oder\n0151/ 70 33 87 06 \nsenden. \n  \n 
URL:https://www.evangelisch-in-unterbarmen.de/event/orgelkonzert-wunsch-stuecke/
LOCATION:Pauluskirche\, Pauluskirchstr. 8\, Wuppertal\, NRW\, 42285\, Deutschland
CATEGORIES:Musik
END:VEVENT
END:VCALENDAR